BEGIN:VCALENDAR
VERSION:2.0
PRODID:-//LEO Network//Training Calendar//EN
BEGIN:VEVENT
UID:event-6766@leo-network.com
DTSTAMP:20260422T143157Z
DTSTART:20250616T150000Z
DTEND:20250617T000000Z
SUMMARY:Body Language for Law Enforcement
DESCRIPTION:Law Enforcement Training
Hosted by: ONEFACE LLC

View event details:
https://www.leo-network.com/event/body-language-for-law-enforcement-kalispell-mt-6766/
LOCATION:Kalispell, MT
URL:https://www.leo-network.com/event/body-language-for-law-enforcement-kalispell-mt-6766/
END:VEVENT
END:VCALENDAR
