BEGIN:VCALENDAR
VERSION:2.0
PRODID:-//LEO Network//Training Calendar//EN
BEGIN:VEVENT
UID:event-6771@leo-network.com
DTSTAMP:20260421T204008Z
DTSTART:20241030T150000Z
DTEND:20241031T000000Z
SUMMARY:Body Language for Law Enforcement
DESCRIPTION:Law Enforcement Training
Hosted by: ONEFACE LLC

View event details:
https://www.leo-network.com/event/body-language-for-law-enforcement-hartford-ct-6771/
LOCATION:Hartford, CT
URL:https://www.leo-network.com/event/body-language-for-law-enforcement-hartford-ct-6771/
END:VEVENT
END:VCALENDAR
