BEGIN:VCALENDAR
VERSION:2.0
PRODID:-//LEO Network//Training Calendar//EN
BEGIN:VEVENT
UID:event-6772@leo-network.com
DTSTAMP:20260422T171434Z
DTSTART:20241218T160000Z
DTEND:20241219T010000Z
SUMMARY:Recognizing Pre-Attack Indicators
DESCRIPTION:Law Enforcement Training
Hosted by: ONEFACE LLC

View event details:
https://www.leo-network.com/event/recognizing-pre-attack-indicators-madisonville-ky-6772/
LOCATION:Madisonville, KY
URL:https://www.leo-network.com/event/recognizing-pre-attack-indicators-madisonville-ky-6772/
END:VEVENT
END:VCALENDAR
