BEGIN:VCALENDAR
VERSION:2.0
PRODID:-//LEO Network//Training Calendar//EN
BEGIN:VEVENT
UID:event-6774@leo-network.com
DTSTAMP:20260423T044125Z
DTSTART:20250114T160000Z
DTEND:20250115T010000Z
SUMMARY:Recognizing Pre-Attack Indicators
DESCRIPTION:Law Enforcement Training
Hosted by: ONEFACE LLC

View event details:
https://www.leo-network.com/event/recognizing-pre-attack-indicators-collegedale-tn-6774/
LOCATION:Collegedale, TN
URL:https://www.leo-network.com/event/recognizing-pre-attack-indicators-collegedale-tn-6774/
END:VEVENT
END:VCALENDAR
