BEGIN:VCALENDAR
VERSION:2.0
PRODID:-//LEO Network//Training Calendar//EN
BEGIN:VEVENT
UID:event-6775@leo-network.com
DTSTAMP:20260423T070147Z
DTSTART:20250221T160000Z
DTEND:20250222T010000Z
SUMMARY:Recognizing Pre-Attack Indicators
DESCRIPTION:Law Enforcement Training
Hosted by: ONEFACE LLC

View event details:
https://www.leo-network.com/event/recognizing-pre-attack-indicators-hendersonville-tn-6775/
LOCATION:Hendersonville, TN
URL:https://www.leo-network.com/event/recognizing-pre-attack-indicators-hendersonville-tn-6775/
END:VEVENT
END:VCALENDAR
