BEGIN:VCALENDAR
VERSION:2.0
PRODID:-//LEO Network//Training Calendar//EN
BEGIN:VEVENT
UID:event-6776@leo-network.com
DTSTAMP:20260423T083148Z
DTSTART:20250225T160000Z
DTEND:20250226T010000Z
SUMMARY:Recognizing Pre-Attack Indicators
DESCRIPTION:Law Enforcement Training
Hosted by: ONEFACE LLC

View event details:
https://www.leo-network.com/event/recognizing-pre-attack-indicators-huntersville-nc-6776/
LOCATION:Huntersville, NC
URL:https://www.leo-network.com/event/recognizing-pre-attack-indicators-huntersville-nc-6776/
END:VEVENT
END:VCALENDAR
