BEGIN:VCALENDAR
VERSION:2.0
PRODID:-//LEO Network//Training Calendar//EN
BEGIN:VEVENT
UID:event-6777@leo-network.com
DTSTAMP:20260423T101309Z
DTSTART:20250307T160000Z
DTEND:20250308T010000Z
SUMMARY:Recognizing Pre-Attack Indicators
DESCRIPTION:Law Enforcement Training
Hosted by: ONEFACE LLC

View event details:
https://www.leo-network.com/event/recognizing-pre-attack-indicators-wichita-falls-tx-6777/
LOCATION:Wichita Falls, TX
URL:https://www.leo-network.com/event/recognizing-pre-attack-indicators-wichita-falls-tx-6777/
END:VEVENT
END:VCALENDAR
