BEGIN:VCALENDAR
VERSION:2.0
PRODID:-//LEO Network//Training Calendar//EN
BEGIN:VEVENT
UID:event-6779@leo-network.com
DTSTAMP:20260422T231149Z
DTSTART:20250429T150000Z
DTEND:20250430T000000Z
SUMMARY:Recognizing Pre-Attack Indicators
DESCRIPTION:Law Enforcement Training
Hosted by: ONEFACE LLC

View event details:
https://www.leo-network.com/event/recognizing-pre-attack-indicators-west-haven-ct-6779/
LOCATION:West Haven , CT
URL:https://www.leo-network.com/event/recognizing-pre-attack-indicators-west-haven-ct-6779/
END:VEVENT
END:VCALENDAR
