BEGIN:VCALENDAR
VERSION:2.0
PRODID:-//LEO Network//Training Calendar//EN
BEGIN:VEVENT
UID:event-6782@leo-network.com
DTSTAMP:20260422T195646Z
DTSTART:20250521T150000Z
DTEND:20250522T000000Z
SUMMARY:Recognizing Pre-Attack Indicators
DESCRIPTION:Law Enforcement Training
Hosted by: ONEFACE LLC

View event details:
https://www.leo-network.com/event/recognizing-pre-attack-indicators-sheboygan-wi-6782/
LOCATION:Sheboygan, WI
URL:https://www.leo-network.com/event/recognizing-pre-attack-indicators-sheboygan-wi-6782/
END:VEVENT
END:VCALENDAR
