BEGIN:VCALENDAR
VERSION:2.0
PRODID:-//LEO Network//Training Calendar//EN
BEGIN:VEVENT
UID:event-6783@leo-network.com
DTSTAMP:20260422T154942Z
DTSTART:20250613T150000Z
DTEND:20250614T000000Z
SUMMARY:Recognizing Pre-Attack Indicators
DESCRIPTION:Law Enforcement Training
Hosted by: ONEFACE LLC

View event details:
https://www.leo-network.com/event/recognizing-pre-attack-indicators-fort-collins-co-6783/
LOCATION:Fort Collins, CO
URL:https://www.leo-network.com/event/recognizing-pre-attack-indicators-fort-collins-co-6783/
END:VEVENT
END:VCALENDAR
