BEGIN:VCALENDAR
VERSION:2.0
PRODID:-//LEO Network//Training Calendar//EN
BEGIN:VEVENT
UID:event-6807@leo-network.com
DTSTAMP:20260422T220345Z
DTSTART:20241113T160000Z
DTEND:20241115T010000Z
SUMMARY:De-escalation: Principles & Practice
DESCRIPTION:Law Enforcement Training
Hosted by: National De-escalation Training Center

View event details:
https://www.leo-network.com/event/de-escalation-principles-practice-edmond-ok-6807/
LOCATION:Edmond, OK
URL:https://www.leo-network.com/event/de-escalation-principles-practice-edmond-ok-6807/
END:VEVENT
END:VCALENDAR
