BEGIN:VCALENDAR
VERSION:2.0
PRODID:-//LEO Network//Training Calendar//EN
BEGIN:VEVENT
UID:event-6820@leo-network.com
DTSTAMP:20260422T155004Z
DTSTART:20250121T160000Z
DTEND:20250125T010000Z
SUMMARY:De-escalation: Train-the-Trainer
DESCRIPTION:Law Enforcement Training
Hosted by: National De-escalation Training Center

View event details:
https://www.leo-network.com/event/de-escalation-train-the-trainer-madisonville-ky-6820/
LOCATION:Madisonville, KY
URL:https://www.leo-network.com/event/de-escalation-train-the-trainer-madisonville-ky-6820/
END:VEVENT
END:VCALENDAR
