BEGIN:VCALENDAR
VERSION:2.0
PRODID:-//LEO Network//Training Calendar//EN
BEGIN:VEVENT
UID:event-6822@leo-network.com
DTSTAMP:20260422T155003Z
DTSTART:20250224T160000Z
DTEND:20250228T010000Z
SUMMARY:De-escalation: Train-the-Trainer
DESCRIPTION:Law Enforcement Training
Hosted by: National De-escalation Training Center

View event details:
https://www.leo-network.com/event/de-escalation-train-the-trainer-richmond-ky-6822/
LOCATION:Richmond, KY
URL:https://www.leo-network.com/event/de-escalation-train-the-trainer-richmond-ky-6822/
END:VEVENT
END:VCALENDAR
