BEGIN:VCALENDAR
VERSION:2.0
PRODID:-//LEO Network//Training Calendar//EN
BEGIN:VEVENT
UID:event-6845@leo-network.com
DTSTAMP:20260423T134930Z
DTSTART:20241211T160000Z
DTEND:20241213T010000Z
SUMMARY:New Jersey: Comprehensive Case Law (Update/Overview)  
DESCRIPTION:Law Enforcement Training
Hosted by: J Harris Academy of Police Training

View event details:
https://www.leo-network.com/event/new-jersey-comprehensive-case-law-update-overview-clark-nj-6845/
LOCATION:Clark, NJ
URL:https://www.leo-network.com/event/new-jersey-comprehensive-case-law-update-overview-clark-nj-6845/
END:VEVENT
END:VCALENDAR
