BEGIN:VCALENDAR
VERSION:2.0
PRODID:-//LEO Network//Training Calendar//EN
BEGIN:VEVENT
UID:event-6873@leo-network.com
DTSTAMP:20260422T144507Z
DTSTART:20250519T150000Z
DTEND:20250522T000000Z
SUMMARY:3 Day Criminal Interdiction Workshop (Hands-on Vehicle Searches)
DESCRIPTION:Law Enforcement Training
Hosted by: Desert Snow

View event details:
https://www.leo-network.com/event/3-day-criminal-interdiction-workshop-hands-on-vehicle-searches-west-fargo-nd-6873/
LOCATION:West Fargo, ND
URL:https://www.leo-network.com/event/3-day-criminal-interdiction-workshop-hands-on-vehicle-searches-west-fargo-nd-6873/
END:VEVENT
END:VCALENDAR
