BEGIN:VCALENDAR
VERSION:2.0
PRODID:-//LEO Network//Training Calendar//EN
BEGIN:VEVENT
UID:event-6874@leo-network.com
DTSTAMP:20260421T165414Z
DTSTART:20250528T150000Z
DTEND:20250531T000000Z
SUMMARY:3 Day Criminal Interdiction Workshop (Hands-on Vehicle Searches)
DESCRIPTION:Law Enforcement Training
Hosted by: Desert Snow

View event details:
https://www.leo-network.com/event/3-day-criminal-interdiction-workshop-hands-on-vehicle-searches-buffalo-ny-6874/
LOCATION:Buffalo, NY
URL:https://www.leo-network.com/event/3-day-criminal-interdiction-workshop-hands-on-vehicle-searches-buffalo-ny-6874/
END:VEVENT
END:VCALENDAR
