BEGIN:VCALENDAR
VERSION:2.0
PRODID:-//LEO Network//Training Calendar//EN
BEGIN:VEVENT
UID:event-6923@leo-network.com
DTSTAMP:20260423T115226Z
DTSTART:20250113T160000Z
DTEND:20250114T010000Z
SUMMARY:Social Media and Open Source Investigations
DESCRIPTION:Law Enforcement Training
Hosted by: Blue to Gold Training

View event details:
https://www.leo-network.com/event/social-media-and-open-source-investigations-marion-nc-6923/
LOCATION:Marion, NC
URL:https://www.leo-network.com/event/social-media-and-open-source-investigations-marion-nc-6923/
END:VEVENT
END:VCALENDAR
