BEGIN:VCALENDAR
VERSION:2.0
PRODID:-//LEO Network//Training Calendar//EN
BEGIN:VEVENT
UID:event-6955@leo-network.com
DTSTAMP:20260424T200328Z
DTSTART:20250225T160000Z
DTEND:20250226T010000Z
SUMMARY:Advanced Search & Seizure by Blue to Gold
DESCRIPTION:Law Enforcement Training
Hosted by: Blue to Gold Training

View event details:
https://www.leo-network.com/event/advanced-search-seizure-by-blue-to-gold-fairfield-ca-6955/
LOCATION:Fairfield, CA
URL:https://www.leo-network.com/event/advanced-search-seizure-by-blue-to-gold-fairfield-ca-6955/
END:VEVENT
END:VCALENDAR
