BEGIN:VCALENDAR
VERSION:2.0
PRODID:-//LEO Network//Training Calendar//EN
BEGIN:VEVENT
UID:event-6956@leo-network.com
DTSTAMP:20260424T195952Z
DTSTART:20250226T160000Z
DTEND:20250227T010000Z
SUMMARY:Advanced Traffic Stops by Blue to Gold
DESCRIPTION:Law Enforcement Training
Hosted by: Blue to Gold Training

View event details:
https://www.leo-network.com/event/advanced-traffic-stops-by-blue-to-gold-fairfield-ca-6956/
LOCATION:Fairfield, CA
URL:https://www.leo-network.com/event/advanced-traffic-stops-by-blue-to-gold-fairfield-ca-6956/
END:VEVENT
END:VCALENDAR
