BEGIN:VCALENDAR
VERSION:2.0
PRODID:-//LEO Network//Training Calendar//EN
BEGIN:VEVENT
UID:event-6957@leo-network.com
DTSTAMP:20260424T200019Z
DTSTART:20250227T160000Z
DTEND:20250228T010000Z
SUMMARY:Bulletproof Report Writing by Blue to Gold
DESCRIPTION:Law Enforcement Training
Hosted by: Blue to Gold Training

View event details:
https://www.leo-network.com/event/bulletproof-report-writing-by-blue-to-gold-fairfield-ca-6957/
LOCATION:Fairfield, CA
URL:https://www.leo-network.com/event/bulletproof-report-writing-by-blue-to-gold-fairfield-ca-6957/
END:VEVENT
END:VCALENDAR
