BEGIN:VCALENDAR
VERSION:2.0
PRODID:-//LEO Network//Training Calendar//EN
BEGIN:VEVENT
UID:event-6985@leo-network.com
DTSTAMP:20260422T103747Z
DTSTART:20250204T160000Z
DTEND:20250205T010000Z
SUMMARY:NJ Legal UPDATE (Case Law, Miranda, Search & Seizure)
DESCRIPTION:Law Enforcement Training
Hosted by: J Harris Academy of Police Training

View event details:
https://www.leo-network.com/event/nj-legal-update-case-law-miranda-search-seizure-morristown-nj-6985/
LOCATION:Morristown, NJ
URL:https://www.leo-network.com/event/nj-legal-update-case-law-miranda-search-seizure-morristown-nj-6985/
END:VEVENT
END:VCALENDAR
