BEGIN:VCALENDAR
VERSION:2.0
PRODID:-//LEO Network//Training Calendar//EN
BEGIN:VEVENT
UID:event-7006@leo-network.com
DTSTAMP:20260421T111052Z
DTSTART:20250221T160000Z
DTEND:20250222T010000Z
SUMMARY:Road Sergeant Tune-Up
DESCRIPTION:Law Enforcement Training
Hosted by: J Harris Academy of Police Training

View event details:
https://www.leo-network.com/event/road-sergeant-tune-up-upper-marlboro-md-7006/
LOCATION:Upper Marlboro, MD
URL:https://www.leo-network.com/event/road-sergeant-tune-up-upper-marlboro-md-7006/
END:VEVENT
END:VCALENDAR
