BEGIN:VCALENDAR
VERSION:2.0
PRODID:-//LEO Network//Training Calendar//EN
BEGIN:VEVENT
UID:event-7023@leo-network.com
DTSTAMP:20260421T072942Z
DTSTART:20250227T160000Z
DTEND:20250228T010000Z
SUMMARY:Body Language for Law Enforcement
DESCRIPTION:Law Enforcement Training
Hosted by: ONEFACE LLC

View event details:
https://www.leo-network.com/event/body-language-for-law-enforcement-west-columbia-sc-7023/
LOCATION:West Columbia, SC
URL:https://www.leo-network.com/event/body-language-for-law-enforcement-west-columbia-sc-7023/
END:VEVENT
END:VCALENDAR
