BEGIN:VCALENDAR
VERSION:2.0
PRODID:-//LEO Network//Training Calendar//EN
BEGIN:VEVENT
UID:event-7024@leo-network.com
DTSTAMP:20260423T114413Z
DTSTART:20250313T150000Z
DTEND:20250314T000000Z
SUMMARY:Body Language for Law Enforcement
DESCRIPTION:Law Enforcement Training
Hosted by: ONEFACE LLC

View event details:
https://www.leo-network.com/event/body-language-for-law-enforcement-san-marcos-tx-7024/
LOCATION:San Marcos, TX
URL:https://www.leo-network.com/event/body-language-for-law-enforcement-san-marcos-tx-7024/
END:VEVENT
END:VCALENDAR
