BEGIN:VCALENDAR
VERSION:2.0
PRODID:-//LEO Network//Training Calendar//EN
BEGIN:VEVENT
UID:event-7026@leo-network.com
DTSTAMP:20260423T035853Z
DTSTART:20250324T150000Z
DTEND:20250325T000000Z
SUMMARY:Body Language for Law Enforcement
DESCRIPTION:Law Enforcement Training
Hosted by: ONEFACE LLC

View event details:
https://www.leo-network.com/event/body-language-for-law-enforcement-benton-harbor-mi-7026/
LOCATION:Benton Harbor, MI
URL:https://www.leo-network.com/event/body-language-for-law-enforcement-benton-harbor-mi-7026/
END:VEVENT
END:VCALENDAR
