BEGIN:VCALENDAR
VERSION:2.0
PRODID:-//LEO Network//Training Calendar//EN
BEGIN:VEVENT
UID:event-7028@leo-network.com
DTSTAMP:20260421T165426Z
DTSTART:20250423T150000Z
DTEND:20250424T000000Z
SUMMARY:Body Language for Law Enforcement
DESCRIPTION:Law Enforcement Training
Hosted by: ONEFACE LLC

View event details:
https://www.leo-network.com/event/body-language-for-law-enforcement-bethlehem-pa-7028/
LOCATION:Bethlehem, PA
URL:https://www.leo-network.com/event/body-language-for-law-enforcement-bethlehem-pa-7028/
END:VEVENT
END:VCALENDAR
