BEGIN:VCALENDAR
VERSION:2.0
PRODID:-//LEO Network//Training Calendar//EN
BEGIN:VEVENT
UID:event-7029@leo-network.com
DTSTAMP:20260422T213602Z
DTSTART:20250529T150000Z
DTEND:20250530T000000Z
SUMMARY:Body Language for Law Enforcement
DESCRIPTION:Law Enforcement Training
Hosted by: ONEFACE LLC

View event details:
https://www.leo-network.com/event/body-language-for-law-enforcement-abington-pa-7029/
LOCATION:Abington, PA
URL:https://www.leo-network.com/event/body-language-for-law-enforcement-abington-pa-7029/
END:VEVENT
END:VCALENDAR
