BEGIN:VCALENDAR
VERSION:2.0
PRODID:-//LEO Network//Training Calendar//EN
BEGIN:VEVENT
UID:event-7030@leo-network.com
DTSTAMP:20260422T132134Z
DTSTART:20250626T150000Z
DTEND:20250627T000000Z
SUMMARY:Body Language for Law Enforcement
DESCRIPTION:Law Enforcement Training
Hosted by: ONEFACE LLC

View event details:
https://www.leo-network.com/event/body-language-for-law-enforcement-castle-shannon-pa-7030/
LOCATION:Castle Shannon, PA
URL:https://www.leo-network.com/event/body-language-for-law-enforcement-castle-shannon-pa-7030/
END:VEVENT
END:VCALENDAR
