BEGIN:VCALENDAR
VERSION:2.0
PRODID:-//LEO Network//Training Calendar//EN
BEGIN:VEVENT
UID:event-7034@leo-network.com
DTSTAMP:20260421T204129Z
DTSTART:20251020T150000Z
DTEND:20251021T000000Z
SUMMARY:Body Language for Law Enforcement
DESCRIPTION:Law Enforcement Training
Hosted by: ONEFACE LLC

View event details:
https://www.leo-network.com/event/body-language-for-law-enforcement-hartford-ct-7034/
LOCATION:Hartford, CT
URL:https://www.leo-network.com/event/body-language-for-law-enforcement-hartford-ct-7034/
END:VEVENT
END:VCALENDAR
