BEGIN:VCALENDAR
VERSION:2.0
PRODID:-//LEO Network//Training Calendar//EN
BEGIN:VEVENT
UID:event-7036@leo-network.com
DTSTAMP:20260423T095108Z
DTSTART:20250314T150000Z
DTEND:20250315T000000Z
SUMMARY:Recognizing Pre-Attack Indicators
DESCRIPTION:Law Enforcement Training
Hosted by: ONEFACE LLC

View event details:
https://www.leo-network.com/event/recognizing-pre-attack-indicators-san-marcos-tx-7036/
LOCATION:San Marcos, TX
URL:https://www.leo-network.com/event/recognizing-pre-attack-indicators-san-marcos-tx-7036/
END:VEVENT
END:VCALENDAR
