BEGIN:VCALENDAR
VERSION:2.0
PRODID:-//LEO Network//Training Calendar//EN
BEGIN:VEVENT
UID:event-7037@leo-network.com
DTSTAMP:20260421T072352Z
DTSTART:20250228T160000Z
DTEND:20250301T010000Z
SUMMARY:Recognizing Pre-Attack Indicators
DESCRIPTION:Law Enforcement Training
Hosted by: ONEFACE LLC

View event details:
https://www.leo-network.com/event/recognizing-pre-attack-indicators-west-columbia-sc-7037/
LOCATION:West Columbia, SC
URL:https://www.leo-network.com/event/recognizing-pre-attack-indicators-west-columbia-sc-7037/
END:VEVENT
END:VCALENDAR
