BEGIN:VCALENDAR
VERSION:2.0
PRODID:-//LEO Network//Training Calendar//EN
BEGIN:VEVENT
UID:event-7040@leo-network.com
DTSTAMP:20260423T071611Z
DTSTART:20250325T150000Z
DTEND:20250326T000000Z
SUMMARY:Recognizing Pre-Attack Indicators
DESCRIPTION:Law Enforcement Training
Hosted by: ONEFACE LLC

View event details:
https://www.leo-network.com/event/recognizing-pre-attack-indicators-benton-harbor-mi-7040/
LOCATION:Benton Harbor, MI
URL:https://www.leo-network.com/event/recognizing-pre-attack-indicators-benton-harbor-mi-7040/
END:VEVENT
END:VCALENDAR
