BEGIN:VCALENDAR
VERSION:2.0
PRODID:-//LEO Network//Training Calendar//EN
BEGIN:VEVENT
UID:event-7043@leo-network.com
DTSTAMP:20260422T213602Z
DTSTART:20250530T150000Z
DTEND:20250531T000000Z
SUMMARY:Recognizing Pre-Attack Indicators
DESCRIPTION:Law Enforcement Training
Hosted by: ONEFACE LLC

View event details:
https://www.leo-network.com/event/recognizing-pre-attack-indicators-abington-pa-7043/
LOCATION:Abington, PA
URL:https://www.leo-network.com/event/recognizing-pre-attack-indicators-abington-pa-7043/
END:VEVENT
END:VCALENDAR
