BEGIN:VCALENDAR
VERSION:2.0
PRODID:-//LEO Network//Training Calendar//EN
BEGIN:VEVENT
UID:event-7055@leo-network.com
DTSTAMP:20260423T135021Z
DTSTART:20241113T160000Z
DTEND:20241115T010000Z
SUMMARY:New Jersey: Attorney General Guidelines & Directives 
DESCRIPTION:Law Enforcement Training
Hosted by: J Harris Academy of Police Training

View event details:
https://www.leo-network.com/event/new-jersey-attorney-general-guidelines-directives-clark-nj-7055/
LOCATION:Clark, NJ
URL:https://www.leo-network.com/event/new-jersey-attorney-general-guidelines-directives-clark-nj-7055/
END:VEVENT
END:VCALENDAR
