BEGIN:VCALENDAR
VERSION:2.0
PRODID:-//LEO Network//Training Calendar//EN
BEGIN:VEVENT
UID:event-7058@leo-network.com
DTSTAMP:20260423T135043Z
DTSTART:20250108T160000Z
DTEND:20250109T010000Z
SUMMARY:New Jersey Motor Vehicle Law (Title 39)
DESCRIPTION:Law Enforcement Training
Hosted by: J Harris Academy of Police Training

View event details:
https://www.leo-network.com/event/new-jersey-motor-vehicle-law-title-39-clark-nj-7058/
LOCATION:Clark, NJ
URL:https://www.leo-network.com/event/new-jersey-motor-vehicle-law-title-39-clark-nj-7058/
END:VEVENT
END:VCALENDAR
