BEGIN:VCALENDAR
VERSION:2.0
PRODID:-//LEO Network//Training Calendar//EN
BEGIN:VEVENT
UID:event-7063@leo-network.com
DTSTAMP:20260423T134905Z
DTSTART:20250115T160000Z
DTEND:20250116T010000Z
SUMMARY:New Jersey Code of Criminal Justice (Title 2C)
DESCRIPTION:Law Enforcement Training
Hosted by: J Harris Academy of Police Training

View event details:
https://www.leo-network.com/event/new-jersey-code-of-criminal-justice-title-2c-clark-nj-7063/
LOCATION:Clark, NJ
URL:https://www.leo-network.com/event/new-jersey-code-of-criminal-justice-title-2c-clark-nj-7063/
END:VEVENT
END:VCALENDAR
