BEGIN:VCALENDAR
VERSION:2.0
PRODID:-//LEO Network//Training Calendar//EN
BEGIN:VEVENT
UID:event-7081@leo-network.com
DTSTAMP:20260421T130551Z
DTSTART:20250415T150000Z
DTEND:20250416T000000Z
SUMMARY:Body Language for Law Enforcement
DESCRIPTION:Law Enforcement Training
Hosted by: ONEFACE LLC

View event details:
https://www.leo-network.com/event/body-language-for-law-enforcement-cape-coral-fl-7081/
LOCATION:Cape Coral, FL
URL:https://www.leo-network.com/event/body-language-for-law-enforcement-cape-coral-fl-7081/
END:VEVENT
END:VCALENDAR
