BEGIN:VCALENDAR
VERSION:2.0
PRODID:-//LEO Network//Training Calendar//EN
BEGIN:VEVENT
UID:event-7087@leo-network.com
DTSTAMP:20260422T155750Z
DTSTART:20251029T150000Z
DTEND:20251101T000000Z
SUMMARY:3 Day Criminal Interdiction Workshop (Hands-on Vehicle Searches)
DESCRIPTION:Law Enforcement Training
Hosted by: Desert Snow

View event details:
https://www.leo-network.com/event/3-day-criminal-interdiction-workshop-hands-on-vehicle-searches-junction-city-ks-7087/
LOCATION:Junction City, KS
URL:https://www.leo-network.com/event/3-day-criminal-interdiction-workshop-hands-on-vehicle-searches-junction-city-ks-7087/
END:VEVENT
END:VCALENDAR
