BEGIN:VCALENDAR
VERSION:2.0
PRODID:-//LEO Network//Training Calendar//EN
BEGIN:VEVENT
UID:event-7088@leo-network.com
DTSTAMP:20260421T181640Z
DTSTART:20250217T160000Z
DTEND:20250219T010000Z
SUMMARY:TrapMate* 2-Day Interdiction & Hidden Compartment Training
DESCRIPTION:Law Enforcement Training
Hosted by: Dynamic Police Training

View event details:
https://www.leo-network.com/event/trapmate-2-day-interdiction-hidden-compartment-training-jessup-pa-7088/
LOCATION:Jessup, PA
URL:https://www.leo-network.com/event/trapmate-2-day-interdiction-hidden-compartment-training-jessup-pa-7088/
END:VEVENT
END:VCALENDAR
