BEGIN:VCALENDAR
VERSION:2.0
PRODID:-//LEO Network//Training Calendar//EN
BEGIN:VEVENT
UID:event-7115@leo-network.com
DTSTAMP:20260423T115052Z
DTSTART:20250327T150000Z
DTEND:20250328T000000Z
SUMMARY:Radicalization, Sovereign Citizens, & Extremists
DESCRIPTION:Law Enforcement Training
Hosted by: Bloodgood Law Enforcement Training Group 

View event details:
https://www.leo-network.com/event/radicalization-sovereign-citizens-extremists-marion-nc-7115/
LOCATION:Marion, NC
URL:https://www.leo-network.com/event/radicalization-sovereign-citizens-extremists-marion-nc-7115/
END:VEVENT
END:VCALENDAR
