BEGIN:VCALENDAR
VERSION:2.0
PRODID:-//LEO Network//Training Calendar//EN
BEGIN:VEVENT
UID:event-7125@leo-network.com
DTSTAMP:20260422T102218Z
DTSTART:20250220T160000Z
DTEND:20250221T010000Z
SUMMARY:Benelli M Series Armorer
DESCRIPTION:Law Enforcement Training
Hosted by: Weld County Sheriff&apos;s Office

View event details:
https://www.leo-network.com/event/benelli-m-series-armorer-greeley-co-7125/
LOCATION:Greeley , CO
URL:https://www.leo-network.com/event/benelli-m-series-armorer-greeley-co-7125/
END:VEVENT
END:VCALENDAR
