BEGIN:VCALENDAR
VERSION:2.0
PRODID:-//LEO Network//Training Calendar//EN
BEGIN:VEVENT
UID:event-7129@leo-network.com
DTSTAMP:20260422T144446Z
DTSTART:20250410T150000Z
DTEND:20250411T000000Z
SUMMARY:The Field Training Officer: Update & Refresher
DESCRIPTION:Law Enforcement Training
Hosted by: J Harris Academy of Police Training

View event details:
https://www.leo-network.com/event/the-field-training-officer-update-refresher-little-silver-nj-7129/
LOCATION:Little Silver, NJ
URL:https://www.leo-network.com/event/the-field-training-officer-update-refresher-little-silver-nj-7129/
END:VEVENT
END:VCALENDAR
