BEGIN:VCALENDAR
VERSION:2.0
PRODID:-//LEO Network//Training Calendar//EN
BEGIN:VEVENT
UID:event-7152@leo-network.com
DTSTAMP:20260426T030231Z
DTSTART:20250318T150000Z
DTEND:20250322T000000Z
SUMMARY:Understanding the Mexican Cartels and Narco Cultura
DESCRIPTION:Law Enforcement Training
Hosted by: The Vigilance Project

View event details:
https://www.leo-network.com/event/understanding-the-mexican-cartels-and-narco-cultura-tucumcari-nm-7152/
LOCATION:Tucumcari, NM
URL:https://www.leo-network.com/event/understanding-the-mexican-cartels-and-narco-cultura-tucumcari-nm-7152/
END:VEVENT
END:VCALENDAR
