BEGIN:VCALENDAR
VERSION:2.0
PRODID:-//LEO Network//Training Calendar//EN
BEGIN:VEVENT
UID:event-716@leo-network.com
DTSTAMP:20260419T210121Z
DTSTART:20230613T150000Z
DTEND:20230614T000000Z
SUMMARY:Advanced Search & Seizure
DESCRIPTION:Law Enforcement Training
Hosted by: Blue to Gold Training

View event details:
https://www.leo-network.com/event/advanced-search-seizure-inver-grove-heights-mn-716/
LOCATION:Inver Grove Heights, MN
URL:https://www.leo-network.com/event/advanced-search-seizure-inver-grove-heights-mn-716/
END:VEVENT
END:VCALENDAR
