BEGIN:VCALENDAR
VERSION:2.0
PRODID:-//LEO Network//Training Calendar//EN
BEGIN:VEVENT
UID:event-7166@leo-network.com
DTSTAMP:20260423T114249Z
DTSTART:20241209T160000Z
DTEND:20241211T010000Z
SUMMARY:Out of the Darkness 
DESCRIPTION:Law Enforcement Training
Hosted by: Guardian Strength and Wellness

View event details:
https://www.leo-network.com/event/out-of-the-darkness-jackson-springs-nc-7166/
LOCATION:Jackson Springs, NC
URL:https://www.leo-network.com/event/out-of-the-darkness-jackson-springs-nc-7166/
END:VEVENT
END:VCALENDAR
