BEGIN:VCALENDAR
VERSION:2.0
PRODID:-//LEO Network//Training Calendar//EN
BEGIN:VEVENT
UID:event-717@leo-network.com
DTSTAMP:20260419T204935Z
DTSTART:20230614T150000Z
DTEND:20230615T000000Z
SUMMARY:Advanced Traffic Stops
DESCRIPTION:Law Enforcement Training
Hosted by: Blue to Gold Training

View event details:
https://www.leo-network.com/event/advanced-traffic-stops-inver-grove-heights-mn-717/
LOCATION:Inver Grove Heights, MN
URL:https://www.leo-network.com/event/advanced-traffic-stops-inver-grove-heights-mn-717/
END:VEVENT
END:VCALENDAR
