BEGIN:VCALENDAR
VERSION:2.0
PRODID:-//LEO Network//Training Calendar//EN
BEGIN:VEVENT
UID:event-7170@leo-network.com
DTSTAMP:20260422T233337Z
DTSTART:20241119T160000Z
DTEND:20241121T010000Z
SUMMARY:Interdiction Tactics
DESCRIPTION:Law Enforcement Training
Hosted by: ACE Interdiction Tactics

View event details:
https://www.leo-network.com/event/interdiction-tactics-junction-tx-7170/
LOCATION:Junction, TX
URL:https://www.leo-network.com/event/interdiction-tactics-junction-tx-7170/
END:VEVENT
END:VCALENDAR
