BEGIN:VCALENDAR
VERSION:2.0
PRODID:-//LEO Network//Training Calendar//EN
BEGIN:VEVENT
UID:event-7178@leo-network.com
DTSTAMP:20260422T144651Z
DTSTART:20250128T160000Z
DTEND:20250130T010000Z
SUMMARY:TrapMate* 2-Day Interdiction & Hidden Compartment Training
DESCRIPTION:Law Enforcement Training
Hosted by: Dynamic Police Training

View event details:
https://www.leo-network.com/event/trapmate-2-day-interdiction-hidden-compartment-training-grand-rapids-mi-7178/
LOCATION:Grand Rapids, MI
URL:https://www.leo-network.com/event/trapmate-2-day-interdiction-hidden-compartment-training-grand-rapids-mi-7178/
END:VEVENT
END:VCALENDAR
