BEGIN:VCALENDAR
VERSION:2.0
PRODID:-//LEO Network//Training Calendar//EN
BEGIN:VEVENT
UID:event-718@leo-network.com
DTSTAMP:20260419T205139Z
DTSTART:20230615T150000Z
DTEND:20230616T000000Z
SUMMARY:Advanced Criminal Investigations
DESCRIPTION:Law Enforcement Training
Hosted by: Blue to Gold Training

View event details:
https://www.leo-network.com/event/advanced-criminal-investigations-inver-grove-heights-mn-718/
LOCATION:Inver Grove Heights, MN
URL:https://www.leo-network.com/event/advanced-criminal-investigations-inver-grove-heights-mn-718/
END:VEVENT
END:VCALENDAR
