BEGIN:VCALENDAR
VERSION:2.0
PRODID:-//LEO Network//Training Calendar//EN
BEGIN:VEVENT
UID:event-7183@leo-network.com
DTSTAMP:20260423T115052Z
DTSTART:20250501T150000Z
DTEND:20250502T000000Z
SUMMARY:The Art of Interdiction 
DESCRIPTION:Law Enforcement Training
Hosted by: Justice Academy 

View event details:
https://www.leo-network.com/event/the-art-of-interdiction-gastonia-nc-7183/
LOCATION:Gastonia, NC
URL:https://www.leo-network.com/event/the-art-of-interdiction-gastonia-nc-7183/
END:VEVENT
END:VCALENDAR
